BEGIN:VCALENDAR
VERSION:2.0
PRODID:-//Volt Europa//Events//EN
CALSCALE:GREGORIAN
METHOD:PUBLISH
BEGIN:VEVENT
UID:stamtafel-doetinchem-werken-1750786200@voltnederland.org
DTSTAMP:20260423T143607Z
DTSTART;TZID=Europe/Amsterdam:20250624T193000
DTEND;TZID=Europe/Amsterdam:20250624T220000
SUMMARY:Stamtafel Doetinchem - Werken
DESCRIPTION:Doe mee aan onze Stamtafels! Een enthousiast team is gevormd da
 t zich sterk wil maken om volgend jaar maart in de Doetinchemse raad gekoze
 n te worden\, kijk ook op  Gemeenteraadsverkiezingen 2026 in Doetinchem .  
 Daarom nodigen we je uit om deel te nemen aan onze stamtafels\, waar we het
  gesprek aangaan over een aantal van onze speerpunten. Data en onderwerpen:
  27 mei : Wonen 24 juni : Werken 16 september : Gezondheid 21 oktober : Gem
 eente Achterhoek Dit is een geweldige kans om mee te denken over
LOCATION:locatie ntb
URL:https://voltnederland.org/gelderland/agenda/stamtafel-doetinchem-werken
END:VEVENT
END:VCALENDAR
