BEGIN:VCALENDAR
VERSION:2.0
PRODID:-//Volt Europa//Events//EN
CALSCALE:GREGORIAN
METHOD:PUBLISH
BEGIN:VEVENT
UID:politiek-cafe-in-asta-theater-1761154200@voltnederland.org
DTSTAMP:20260423T115153Z
DTSTART;TZID=Europe/Amsterdam:20251022T193000
DTEND;TZID=Europe/Amsterdam:20251022T213000
SUMMARY:Politiek Café in Asta Theater
DESCRIPTION:Onze Limburgse kandidate Jefte Erens gaat in debat! Het Asta Th
 eater organiseert haar allereerste Politiek Café. Het wordt een avond waar
 in niet alleen woorden\, maar ook nuance en gesprek centraal staan. De avon
 d begint om 20.00 uur\, de zaal gaat open om 19.30 uur. Het debat zal naar 
 verwachting rond 21.30 uur eindigen. De toegang is (zo goed als) gratis\, m
 aar aanmelden via de website van het Asta Theater is verplicht. Our Limburg
  candidate Jefte Erens is going to debate! The Asta Theater is hos
LOCATION:Asta Theater\, Markt 6a\, Beek
URL:https://voltnederland.org/limburg/agenda/politiek-cafe-in-asta-theater
END:VEVENT
END:VCALENDAR
