BEGIN:VCALENDAR
VERSION:2.0
PRODID:-//Volt Europa//Events//EN
CALSCALE:GREGORIAN
METHOD:PUBLISH
BEGIN:VEVENT
UID:pizza-avond-en-belsessie-nijmegen-1738411200@voltnederland.org
DTSTAMP:20260425T131552Z
DTSTART;TZID=Europe/Amsterdam:20250201T130000
DTEND;TZID=Europe/Amsterdam:20250201T163000
SUMMARY:Pizza-avond en belsessie Nijmegen
DESCRIPTION:Op 1 februari organiseren we een gezellige middag: een pizza-pa
 rty gekoppeld aan een belsessie om Volt-leden in Nijmegen uit te nodigen vo
 or de aftrap van de campagne voor de gemeenteraadsverkiezingen begin volgen
 d jaar. Deze aftrap waar wij mensen over vertellen is op de avond van 20 ma
 art.  Met pizza\, bier/wijn/fris en een berg enthousiasme gaan we dus op za
 terdag 1 februari al samen bellen om zoveel mogelijk mensen te vragen of zi
 j ook in maart komen. In Nijmegen hebben wij meer dan 350 leden
LOCATION:bij de ouders van Jan thuis in Nijmegen
URL:https://voltnederland.org/gelderland/agenda/pizza-avond-en-belsessie-ni
 jmegen
END:VEVENT
END:VCALENDAR
