BEGIN:VCALENDAR
VERSION:2.0
PRODID:-//Volt Europa//Events//EN
CALSCALE:GREGORIAN
METHOD:PUBLISH
BEGIN:VEVENT
UID:nieuwjaarsborrel-volt-gelderland-2026-1768581000@voltnederland.org
DTSTAMP:20260424T031612Z
DTSTART;TZID=Europe/Amsterdam:20260116T173000
DTEND;TZID=Europe/Amsterdam:20260116T193000
SUMMARY:Nieuwjaarsborrel Volt Gelderland 2026
DESCRIPTION:Beste Gelderlanders\, Op vrijdag 16 januari 2026 organiseren wi
 j als Gelderse fractie een nieuwjaarsborrel. Alle Volt-leden zijn welkom om
  aan te sluiten vanaf 17:30. Dat zal in het restaurant van Rozet in Arnhem 
 zijn:  A Beautiful Mess.  Eerder die dag hebben de kandidaten van Volt voor
  de gemeenteraadsverkiezingen in Gelderland training op het Provinciehuis. 
 Dit is een mooie kans om hen te ontmoeten\, net als de leden van de fractie
  van Volt in de Provinciale Staten. Datum?  vrijdag 16 januari W
LOCATION:Het restaurant van Rozet in Arnhem
URL:https://voltnederland.org/gelderland/agenda/nieuwjaarsborrel-volt-gelde
 rland-2026
END:VEVENT
END:VCALENDAR
