BEGIN:VCALENDAR
VERSION:2.0
PRODID:-//Volt Europa//Events//EN
CALSCALE:GREGORIAN
METHOD:PUBLISH
BEGIN:VEVENT
UID:nieuwjaarsborrel-volt-beuningen-1770316200@voltnederland.org
DTSTAMP:20260423T174229Z
DTSTART;TZID=Europe/Amsterdam:20260205T193000
DTEND;TZID=Europe/Amsterdam:20260205T210000
SUMMARY:Nieuwjaarsborrel Volt Beuningen
DESCRIPTION:Nu het nieuwe jaar weer voor ons ligt\, willen wij jullie uitno
 digen voor de nieuwjaarsborrel van Volt. Volt Beuningen is geen op zich sta
 ande community\, maar behoort tot de community Nijmegen. Neemt niet weg dat
  het ons leuk lijkt om elkaar te ontmoeten en met elkaar te toosten op het 
 nieuwe jaar en ideeën uit te wisselen. Het is inmiddels gebruikelijk dat d
 e eerste consumptie voor rekening is van Volt. De bijeenkomst is gepland op
   donderdag 5 februari om 19.30 uur . Wij hopen jullie dan te mog
LOCATION:restaurant de Provence\, Julianaplein 43 te Beuningen
URL:https://voltnederland.org/gelderland/agenda/nieuwjaarsborrel-volt-beuni
 ngen
END:VEVENT
END:VCALENDAR
