BEGIN:VCALENDAR
VERSION:2.0
PRODID:-//Volt Europa//Events//EN
CALSCALE:GREGORIAN
METHOD:PUBLISH
BEGIN:VEVENT
UID:nieuwjaarsborrel-volt-achterhoek-en-volt-doetinchem-1768582800@voltnede
 rland.org
DTSTAMP:20260424T152556Z
DTSTART;TZID=Europe/Amsterdam:20260116T180000
DTEND;TZID=Europe/Amsterdam:20260116T210000
SUMMARY:Nieuwjaarsborrel Volt Achterhoek en Volt Doetinchem
DESCRIPTION:De allerbeste wensen voor 2026! 🎉 Graag nodigen we je bij de
 ze uit voor onze nieuwjaarsborrel op 16 januari om 18:00 uur bij Lizzie’s
  Paviljoen (Park of Dutch Dreams\, aan de Oude IJssel). Een informele avond
  om kennis te maken met de kandidaten\, ideeën uit te wisselen en samen vo
 oruit te kijken naar onze plannen voor Doetinchem. 👉 Aanmelden kan via: 
  doetinchem@voltnederland.org
LOCATION:Gaswal 1\, Doetinchem\, Gelderland\, NL\, 7001
URL:https://voltnederland.org/gelderland/agenda/nieuwjaarsborrel-volt-achte
 rhoek-en-volt-doetinchem
END:VEVENT
END:VCALENDAR
