BEGIN:VCALENDAR
VERSION:2.0
PRODID:-//Volt Europa//Events//EN
CALSCALE:GREGORIAN
METHOD:PUBLISH
BEGIN:VEVENT
UID:meeting-rivierenland-gemeenteraad-2026-1725645600@voltnederland.org
DTSTAMP:20260423T143813Z
DTSTART;TZID=Europe/Amsterdam:20240906T200000
DTEND;TZID=Europe/Amsterdam:20240906T220000
SUMMARY:Meeting Rivierenland Gemeenteraad 2026
DESCRIPTION:In maart 2026 zijn er gemeenteraadsverkiezingen in Nederland. D
 at lijkt nog ver weg\, maar de eerste stappen worden nu al gezet. Om hier i
 n het Rivierenland aan mee te doen hebben we een plan nodig. Wil jij meepra
 ten over hoe we dit gaan doen en in welke gemeenten\, jezelf informeren ove
 r wat daar allemaal bij komt kijken of gewoon mede-Volters in het Rivierenl
 and ontmoeten? Iedereen is van harte welkom! Meer info\, vragen en aanmelde
 n (niet verplicht) via rivierenland@voltnederland.org.
LOCATION:Una Volta Stationsweg 7\, 4101 NG Culemborg
URL:https://voltnederland.org/agenda/meeting-rivierenland-gemeenteraad-2026
END:VEVENT
END:VCALENDAR
