BEGIN:VCALENDAR
VERSION:2.0
PRODID:-//Volt Europa//Events//EN
CALSCALE:GREGORIAN
METHOD:PUBLISH
BEGIN:VEVENT
UID:meet-up-veluwe-noord-1732298400@voltnederland.org
DTSTAMP:20260423T114248Z
DTSTART;TZID=Europe/Amsterdam:20241122T190000
DTEND;TZID=Europe/Amsterdam:20241122T220000
SUMMARY:Meet-up Veluwe Noord
DESCRIPTION:Elke vierde vrijdagavond van de maand komen we bij elkaar en oo
 k deze keer zijn er genoeg actualiteiten te bespreken! Gebeurtenissen in de
  wereld\, ons landelijk én ons Gelders congres...... Wat doet Volt\, wat d
 oen wij?  Alle Volt-leden en andere geïnteresseerden van harte welkom! Wil
  je als Volt-lid ook bij onze WhatsAppgroep? Geef dat door aan  Veluwenoord
  .
LOCATION:Café de Paris\, Raadhuisplein 5\, Apeldoorn
URL:https://voltnederland.org/agenda/meet-up-veluwe-noord
END:VEVENT
END:VCALENDAR
