BEGIN:VCALENDAR
VERSION:2.0
PRODID:-//Volt Europa//Events//EN
CALSCALE:GREGORIAN
METHOD:PUBLISH
BEGIN:VEVENT
UID:meet-up-veluwe-noord-augustus-1755883800@voltnederland.org
DTSTAMP:20260423T114339Z
DTSTART;TZID=Europe/Amsterdam:20250822T193000
DTEND;TZID=Europe/Amsterdam:20250822T220000
SUMMARY:Meet-up Veluwe Noord
DESCRIPTION:Vierde vrijdagavond van de maand\, dus tijd voor onze maandelij
 kse ontmoeting!  Kom langs om met elkaar te praten over alles wat ons als V
 olt bezighoudt en neem vooral iemand (lid of geen lid!) mee.  Als je als li
 d ook in onze WhatsApp- of Signalgroep wilt\, meld het via de informatiekno
 p en we voegen je graag toe!
LOCATION:Restaurant VanOuds\, Hoofdstraat 46\, Epe
URL:https://voltnederland.org/agenda/meet-up-veluwe-noord-augustus
END:VEVENT
END:VCALENDAR
