BEGIN:VCALENDAR
VERSION:2.0
PRODID:-//Volt Europa//Events//EN
CALSCALE:GREGORIAN
METHOD:PUBLISH
BEGIN:VEVENT
UID:meet-up-oktober-veluwe-noord-1729875600@voltnederland.org
DTSTAMP:20260423T114539Z
DTSTART;TZID=Europe/Amsterdam:20241025T190000
DTEND;TZID=Europe/Amsterdam:20241025T220000
SUMMARY:Meet-up oktober Veluwe Noord
DESCRIPTION:Maandelijks komen we als Volt Veluwe Noord bij elkaar op wissel
 ende plaatsen om bij te praten over wat ons bezig houdt binnen en buiten on
 ze community.  Kom je deze keer ook naar Epe?  Van harte welkom en neem ger
 ust iemand mee!
LOCATION:VanOuds\, Hoofdstraat 46\, Epe
URL:https://voltnederland.org/agenda/meet-up-oktober-veluwe-noord
END:VEVENT
END:VCALENDAR
