BEGIN:VCALENDAR
VERSION:2.0
PRODID:-//Volt Europa//Events//EN
CALSCALE:GREGORIAN
METHOD:PUBLISH
BEGIN:VEVENT
UID:maatschappelijk-verbinden-1746640800@voltnederland.org
DTSTAMP:20260425T140842Z
DTSTART;TZID=Europe/Amsterdam:20250507T200000
DTEND;TZID=Europe/Amsterdam:20250507T223000
SUMMARY:Maatschappelijk verbinden. Hoe pak je dat aan?
DESCRIPTION:“Politiek is niet het behalen van stemmen\, maar het organise
 ren van wat we samen belangrijk vinden.”   Wil jij als Volt’er of betr
 okken inwoner echt iets betekenen voor jouw buurt of stad? Kom dan naar dez
 e interactieve themabijeenkomst van  Volt Achterhoek! Tijdens deze avond kr
 ijg je praktische tools\, kennis én inspiratie om maatschappelijke initiat
 ieven in jouw omgeving te versterken en versnellen. We nemen je mee in: Jou
 w unieke rol in maatschappelijke verandering Het maatschappelijke landsc
LOCATION:Café Simons\, Simonsplein 8\, Doetinchem
URL:https://voltnederland.org/gelderland/agenda/maatschappelijk-verbinden
END:VEVENT
END:VCALENDAR
