BEGIN:VCALENDAR
VERSION:2.0
PRODID:-//Volt Europa//Events//EN
CALSCALE:GREGORIAN
METHOD:PUBLISH
BEGIN:VEVENT
UID:maandelijkse-meet-up-veluwe-noord-1743186600@voltnederland.org
DTSTAMP:20260423T114441Z
DTSTART;TZID=Europe/Amsterdam:20250328T193000
DTEND;TZID=Europe/Amsterdam:20250328T220000
SUMMARY:Maandelijkse Meet-Up Veluwe Noord
DESCRIPTION:Deze maand zijn jullie allemaal welkom voor een informele bijee
 nkomst in Harderwijk!  We gaan met elkaar praten over lokale\, landelijke e
 n Europese zaken die burgers en Volt aangaan.  Verspreid het in je Harderwi
 jkse en andere omgeving en neem mensen mee!
LOCATION:MFC De Kiekmure\, Tesselschadelaan 1\, 3842 GA Harderwijk
URL:https://voltnederland.org/agenda/maandelijkse-meet-up-veluwe-noord
END:VEVENT
END:VCALENDAR
