BEGIN:VCALENDAR
VERSION:2.0
PRODID:-//Volt Europa//Events//EN
CALSCALE:GREGORIAN
METHOD:PUBLISH
BEGIN:VEVENT
UID:maandelijkse-ledenbijeenkomst-arnhem-nijmegen-08-24-1722533400@voltnede
 rland.org
DTSTAMP:20260421T103925Z
DTSTART;TZID=Europe/Amsterdam:20240801T193000
DTEND;TZID=Europe/Amsterdam:20240801T220000
SUMMARY:Maandelijkse ledenbijeenkomst Arnhem-Nijmegen
DESCRIPTION:Op de eerste donderdag van elke maand hebben wij een ledenbijee
 nkomst in afwisselend Arnhem en Nijmegen. De eerstvolgende keer\, op 1 augu
 stus\, is deze laagdrempelige activiteit in Nijmegen. Wij zien elkaar in he
 t Kronenburgerpark (Kronenburgerplaats 6511) om 19:30. Het is met name bedo
 eld voor leden die nog niet eerder bij een bijeenkomst geweest zijn\, of me
 nsen die recent lid zijn geworden. Gezellig als je er bij kunt zijn!
LOCATION:Nijmegen
URL:https://voltnederland.org/gelderland/agenda/maandelijkse-ledenbijeenkom
 st-arnhem-nijmegen-08-24
END:VEVENT
END:VCALENDAR
