BEGIN:VCALENDAR
VERSION:2.0
PRODID:-//Volt Europa//Events//EN
CALSCALE:GREGORIAN
METHOD:PUBLISH
BEGIN:VEVENT
UID:maandelijkse-bijeenkomst-arnhem-nijmegen-een-picknick-1717610400@voltne
 derland.org
DTSTAMP:20260423T144614Z
DTSTART;TZID=Europe/Amsterdam:20240605T200000
DTEND;TZID=Europe/Amsterdam:20240605T213000
SUMMARY:Maandelijkse bijeenkomst Arnhem-Nijmegen: een picknick!
DESCRIPTION:Op de eerste woensdag van elke maand hebben wij een ledenbijeen
 komst in afwisselend Arnhem en Nijmegen. Dit keer\, op 5 juni\, is de activ
 iteit in Nijmegen\, en wel op de dag vóór de Europese verkiezingen op 6 j
 uni. Ben jij er ook bij op deze mooie woensdagavond? Kom dan naar de Kronen
 burgerpark om 20u\, en draag dan paarse (Volt) kledij als je het hebt. Bren
 g ook iets te eten of drinken mee voor jezelf. Tot dan!
LOCATION:Kronenburgerpark\, Nijmegen
URL:https://voltnederland.org/gelderland/agenda/maandelijkse-bijeenkomst-ar
 nhem-nijmegen-een-picknick
END:VEVENT
END:VCALENDAR
