BEGIN:VCALENDAR
VERSION:2.0
PRODID:-//Volt Europa//Events//EN
CALSCALE:GREGORIAN
METHOD:PUBLISH
BEGIN:VEVENT
UID:lijsttrekkerscongres-volt-gelderland-1750503600@voltnederland.org
DTSTAMP:20260423T061342Z
DTSTART;TZID=Europe/Amsterdam:20250621T130000
DTEND;TZID=Europe/Amsterdam:20250621T163000
SUMMARY:Lijsttrekkerscongres Volt Gelderland
DESCRIPTION:Het congres vindt plaats in theater het hof aan de Boekhorstens
 traat 58\, 6828 DV te Arnhem van 13:30 (inloop vanaf 13.00 uur) tot ongevee
 r 16:30 met een aansluitende borrel om je mede-Volters beter te leren kenne
 n. Het congres zal ook online te volgen zijn via deze link:  https://youtub
 e.com/live/rSZHuRHA-y8 Tijdens dit congres kiezen we lijsttrekkers voor de 
 gemeenteraadsverkiezingen en bepalen we hun speerpunten. Daarnaast gaan we 
 het hebben over de verbinding tussen beleid op Europees\, landel
LOCATION:Theater het Hof Boekhorstenstraat 58\, 6828 DV te Arnhem
URL:https://voltnederland.org/agenda/lijsttrekkerscongres-volt-gelderland
END:VEVENT
END:VCALENDAR
