BEGIN:VCALENDAR
VERSION:2.0
PRODID:-//Volt Europa//Events//EN
CALSCALE:GREGORIAN
METHOD:PUBLISH
BEGIN:VEVENT
UID:lezing-over-lokaal-europees-samenwerken-1775150100@voltnederland.org
DTSTAMP:20260424T190642Z
DTSTART;TZID=Europe/Amsterdam:20260402T191500
DTEND;TZID=Europe/Amsterdam:20260402T213000
SUMMARY:Lezing over lokaal Europees samenwerken
DESCRIPTION:Op 2 april komt Piet Boomsma van de Eurego Rijn Waal vertellen 
 over hoe gemeenten en provincies in onze regio nu al samenwerken met hun Du
 itse ambtgenoten. Hij gaat in op de kansen en de obstakels en de behaalde r
 esultaten. Uiteraard is er uitgebreid gelegenheid om hem te vragen hoe Volt
  vanuit de gemeenteraad invloed in Europa kan uitoefenen. Inloop is vanaf 1
 9:15\, en de lezing begint om 19:30. Onderwerpen die zeker aan de orde gaan
  komen zijn: Succesvolle projecten (en wat daarvan is geleerd) 
LOCATION:Zaal B.06 in Wijkcentrum 't Hert (Thijmstraat 40\, Nijmegen)
URL:https://voltnederland.org/gelderland/agenda/lezing-over-lokaal-europees
 -samenwerken
END:VEVENT
END:VCALENDAR
