BEGIN:VCALENDAR
VERSION:2.0
PRODID:-//Volt Europa//Events//EN
CALSCALE:GREGORIAN
METHOD:PUBLISH
BEGIN:VEVENT
UID:lezing-over-europees-denken-lokaal-doen-wat-betekent-dat-in-de-praktijk
 -1749751200@voltnederland.org
DTSTAMP:20260423T061546Z
DTSTART;TZID=Europe/Amsterdam:20250612T200000
DTEND;TZID=Europe/Amsterdam:20250612T221500
SUMMARY:Lezing over: "Europees Denken - Lokaal Doen - wat betekent dat in d
 e praktijk?"
DESCRIPTION:Gewoonlijk organiseren wij op de eerste donderdag van elke maan
 d een ledenbijeenkomst in Nijmegen. Omdat de eerste donderdag in juni samen
 valt met een lang weekend in verband met Hemelvaart doen wij het een week l
 ater: 12 juni. Donderdag 12 juni organiseren wij een lezing over  Europees 
 Denken - Lokaal Doen - wat betekent dat in de praktijk? . Erik Kemp\, gemee
 nteraadslid namens Volt in Enschede\, geeft ons hier zijn visie op. Hij gaa
 t in gesprek met Vera Buijs\, Statenlid namens Volt in de provinc
LOCATION:Gasthuislaan 8\, Velp
URL:https://voltnederland.org/gelderland/agenda/lezing-over-europees-denken
 -lokaal-doen-wat-betekent-dat-in-de-praktijk
END:VEVENT
END:VCALENDAR
