BEGIN:VCALENDAR
VERSION:2.0
PRODID:-//Volt Europa//Events//EN
CALSCALE:GREGORIAN
METHOD:PUBLISH
BEGIN:VEVENT
UID:lezing-in-samenwerking-met-volt-kleve-over-boerenprotesten-1714755600@v
 oltnederland.org
DTSTAMP:20260423T114253Z
DTSTART;TZID=Europe/Amsterdam:20240503T190000
DTEND;TZID=Europe/Amsterdam:20240503T203000
SUMMARY:Lezing in samenwerking met Volt Kleve over boerenprotesten
DESCRIPTION:3 mei lezing in samenwerking met Volt Kleve over boerenproteste
 n in wijkcentrum Ark van Oost.  Wij hebben dr. Gerry van der Kamp-Alons uit
 genodigd om voor ons te spreken over de achtergrond van de boerenprotesten 
 in Europa. Wat heeft de EU daar mee te maken? Wat is eigenlijk de rol van d
 e EU met betrekking tot landbouwbeleid? Dr. van der Kamp-Alons is Universit
 air hoofddocent Internationale Betrekkingen aan de Radboud Universiteit. Me
 ld je als je wil komen aub via deze link:  https://forms.gle/a
LOCATION:Cipresstraat 154\, 6523 HR Nijmegen
URL:https://voltnederland.org/gelderland/agenda/lezing-in-samenwerking-met-
 volt-kleve-over-boerenprotesten
END:VEVENT
END:VCALENDAR
