BEGIN:VCALENDAR
VERSION:2.0
PRODID:-//Volt Europa//Events//EN
CALSCALE:GREGORIAN
METHOD:PUBLISH
BEGIN:VEVENT
UID:lente-meet-up-volt-rivierenland-1743789600@voltnederland.org
DTSTAMP:20260423T114441Z
DTSTART;TZID=Europe/Amsterdam:20250404T200000
DTEND;TZID=Europe/Amsterdam:20250404T220000
SUMMARY:Lente meet-up Volt Rivierenland
DESCRIPTION:De lente is begonnen en wij willen graag proosten op de bloesem
  en het mooie weer. Heb jij zin om lekker op het terras van het zonnetje ge
 nieten en ondertussen andere Volters te ontmoeten? Kom gezellig langs in Cu
 lemborg.  Meer informatie en aanmelden via rivierenland@voltnederland.org.
LOCATION:Tapperij De Poortwachter\, Everwijnstraat 27\, 4101 CE Culemborg
URL:https://voltnederland.org/agenda/lente-meet-up-volt-rivierenland
END:VEVENT
END:VCALENDAR
