BEGIN:VCALENDAR
VERSION:2.0
PRODID:-//Volt Europa//Events//EN
CALSCALE:GREGORIAN
METHOD:PUBLISH
BEGIN:VEVENT
UID:ledencongres-volt-gelderland-1713610800@voltnederland.org
DTSTAMP:20260423T114409Z
DTSTART;TZID=Europe/Amsterdam:20240420T130000
DTEND;TZID=Europe/Amsterdam:20240420T173000
SUMMARY:Ledencongres Volt Gelderland
DESCRIPTION:Wij houden 20 april de algemene ledenvergadering van Volt Gelde
 rland in  Theater het Hof in Arnhem  van 13-17:30.  Je vindt in de meest re
 cente nieuwsbrieven van Volt Gelderland meer informatie over het congres (a
 ls je geen nieuwsbrief ontvangen hebt\, mail dan aub naar  gelderland@voltn
 ederland.org ). Je kunt je  hier  aanmelden voor het congres. Je vindt  hie
 r  de agendapunten\, amendementen en moties die zijn ingediend voor het con
 gres. Je vindt  hier  de adviesteksten en het procesverslag van 
LOCATION:Theater het Hof in Arnhem (Boekhorstenstraat 58\, 6828 DV Arnhem)
URL:https://voltnederland.org/gelderland/agenda/ledencongres-volt-gelderlan
 d
END:VEVENT
END:VCALENDAR
