BEGIN:VCALENDAR
VERSION:2.0
PRODID:-//Volt Europa//Events//EN
CALSCALE:GREGORIAN
METHOD:PUBLISH
BEGIN:VEVENT
UID:ledenbijeenkomst-volt-nijmegen-oktober-2025-1759428000@voltnederland.or
 g
DTSTAMP:20260423T115447Z
DTSTART;TZID=Europe/Amsterdam:20251002T200000
DTEND;TZID=Europe/Amsterdam:20251002T220000
SUMMARY:Ledenbijeenkomst Volt Nijmegen oktober
DESCRIPTION:Op de eerste donderdag van elke maand hebben wij een ledenbijee
 nkomst in Nijmegen.  Wij gaan op 2 oktober gaan wij het hebben over de camp
 agnes die eraan komen\, en leren wij elkaar beter kennen met een drankje. E
 r zijn namelijk veel nieuwe leden of mensen die al langer lid zijn maar die
  nog niet bij een bijeenkomst geweest zijn. Wij ontmoeten elkaar om 20:00. 
 De locatie is Berg en Dalseweg 81b. Om zeker te zijn dat wij niet teveel me
 nsen zijn voor de locatie\, vragen wij je  een mail te sturen al
LOCATION:Berg en Dalseweg 81b\, Nijmegen
URL:https://voltnederland.org/gelderland/agenda/ledenbijeenkomst-volt-nijme
 gen-oktober-2025
END:VEVENT
END:VCALENDAR
