BEGIN:VCALENDAR
VERSION:2.0
PRODID:-//Volt Europa//Events//EN
CALSCALE:GREGORIAN
METHOD:PUBLISH
BEGIN:VEVENT
UID:ledenbijeenkomst-volt-nijmegen-mei-1746120600@voltnederland.org
DTSTAMP:20260425T231858Z
DTSTART;TZID=Europe/Amsterdam:20250501T193000
DTEND;TZID=Europe/Amsterdam:20250501T213000
SUMMARY:Ledenbijeenkomst Volt Nijmegen mei
DESCRIPTION:Op de eerste donderdag van elke maand hebben wij een ledenbijee
 nkomst in Nijmegen.  Wij gaan op 1 mei met Volt-hesjes aan afval opruimen. 
 Het belooft namelijk mooi weer te zijn. Zo doen wij iets goeds voor de omge
 ving en natuur terwijl wij gezellig elkaar beter kunnen leren kennen. Met d
 e Volt-hesjes aan kunnen wij ook een beetje aan naamsbekendheid doen voor V
 olt in onze stad!  Wij ontmoeten elkaar om 19:30 voor het centraal station 
 in Nijmegen\, en lopen vanaf daar de wijk Bottendaal in. Na afl
LOCATION:Nijmegen
URL:https://voltnederland.org/gelderland/agenda/ledenbijeenkomst-volt-nijme
 gen-mei
END:VEVENT
END:VCALENDAR
