BEGIN:VCALENDAR
VERSION:2.0
PRODID:-//Volt Europa//Events//EN
CALSCALE:GREGORIAN
METHOD:PUBLISH
BEGIN:VEVENT
UID:ledenbijeenkomst-volt-nijmegen-mei-1-1-1762455600@voltnederland.org
DTSTAMP:20260423T144444Z
DTSTART;TZID=Europe/Amsterdam:20251106T200000
DTEND;TZID=Europe/Amsterdam:20251106T220000
SUMMARY:Ledenbijeenkomst Volt Nijmegen november
DESCRIPTION:Op de eerste donderdag van elke maand hebben wij een ledenbijee
 nkomst in Nijmegen.  Wij gaan op 6 november met elkaar van gedachten wissel
 en over hoe wij het gedaan hebben tijdens de Tweede Kamerverkiezingen op 29
  oktober. Het is vooral bedoeld om elkaar beter te leren kennen met een dra
 nkje. Er zijn namelijk veel nieuwe leden of mensen die al langer lid zijn m
 aar die nog niet bij een bijeenkomst geweest zijn. Wij ontmoeten elkaar om 
 20:00. De locatie is Kerkstraat 95. Wij nemen wat drankjes en 
LOCATION:Kerkstraat 95\, Nijmegen
URL:https://voltnederland.org/gelderland/agenda/ledenbijeenkomst-volt-nijme
 gen-mei-1-1
END:VEVENT
END:VCALENDAR
