BEGIN:VCALENDAR
VERSION:2.0
PRODID:-//Volt Europa//Events//EN
CALSCALE:GREGORIAN
METHOD:PUBLISH
BEGIN:VEVENT
UID:ledenbijeenkomst-volt-nijmegen-jan26-1767898800@voltnederland.org
DTSTAMP:20260423T212143Z
DTSTART;TZID=Europe/Amsterdam:20260108T200000
DTEND;TZID=Europe/Amsterdam:20260108T220000
SUMMARY:Ledenbijeenkomst Volt Nijmegen januari 2026
DESCRIPTION:Op de eerste donderdag van elke maand hebben wij een ledenbijee
 nkomst in Nijmegen.  Normaal gesproken zou dat betekenen dat wij elkaar 1 j
 anuari zien. Dat is wel erg vroeg\, dus wij doen voor de uitzondering de tw
 eede donderdag van de maand: 8 januari. Kom met ons het nieuwe jaar inluide
 n met een drankje en een gesprek! Ben je nieuw? Kom dan een halfuurtje eerd
 er (19:30) en leer andere nieuwe leden kennen.  Wij ontmoeten elkaar om 20:
 00 in Tierney's Pub (Molenstraat 55\, Nijmegen).  Houd de appgro
LOCATION:Tierney's Pub (Molenstraat 55\, Nijmegen)
URL:https://voltnederland.org/gelderland/agenda/ledenbijeenkomst-volt-nijme
 gen-jan26
END:VEVENT
END:VCALENDAR
