BEGIN:VCALENDAR
VERSION:2.0
PRODID:-//Volt Europa//Events//EN
CALSCALE:GREGORIAN
METHOD:PUBLISH
BEGIN:VEVENT
UID:ledenbijeenkomst-volt-arnhem-nijmegen-1743699600@voltnederland.org
DTSTAMP:20260423T114409Z
DTSTART;TZID=Europe/Amsterdam:20250403T190000
DTEND;TZID=Europe/Amsterdam:20250403T220000
SUMMARY:Ledenbijeenkomst Volt Arnhem-Nijmegen
DESCRIPTION:Op de eerste donderdag van elke maand hebben wij een ledenbijee
 nkomst in Nijmegen.  Het eerste halfuur van de bijeenkomst\, van 19:00 - 19
 :30\, is bedoeld voor nieuwe leden (of bestaande leden die nog niet eerder 
 actief waren) om kennis met elkaar en het kernteam van Volt Nijmegen te lat
 en maken. Leden die al langer actief zijn mogen natuurlijk ook wat vroeger 
 komen\, maar wij moedigen hen aan om pas om 19:30 uur te komen. Wij gaan ee
 n potluck organiseren bij twee Volt-leden thuis (Kerkstraat 95). 
LOCATION:Kerkstraat 95\, Nijmegen
URL:https://voltnederland.org/gelderland/agenda/ledenbijeenkomst-volt-arnhe
 m-nijmegen
END:VEVENT
END:VCALENDAR
