BEGIN:VCALENDAR
VERSION:2.0
PRODID:-//Volt Europa//Events//EN
CALSCALE:GREGORIAN
METHOD:PUBLISH
BEGIN:VEVENT
UID:ledenbijeenkomst-volt-arnhem-nijmegen-dec25-1764871200@voltnederland.or
 g
DTSTAMP:20260423T114442Z
DTSTART;TZID=Europe/Amsterdam:20251204T190000
DTEND;TZID=Europe/Amsterdam:20251204T210000
SUMMARY:Lezing Volt Arnhem-Nijmegen december
DESCRIPTION:Op de eerste donderdag van elke maand hebben wij een ledenbijee
 nkomst in Nijmegen.  Wij gaan op donderdag 4 december een lezing organisere
 n. Dat doen wij samen met een externe organisatie. Het precieze onderwerp h
 ouden wij even voor ons omdat het in onze samenleving soms gevoelig ligt. H
 eb je zin om meer te weten? Stuur ons dan  een mail . Je kunt je  hier  opg
 even voor het evenement. Inloop vanaf 19:00\, en het begint om 19:30. De lo
 catie is Theater de Kik in Elst ( Dorpsstraat 39\, 6661 EG Elst 
LOCATION:Theater de Kik\, Elst (Dorpsstraat 39\, 6661 EG Elst)
URL:https://voltnederland.org/gelderland/agenda/ledenbijeenkomst-volt-arnhe
 m-nijmegen-dec25
END:VEVENT
END:VCALENDAR
