BEGIN:VCALENDAR
VERSION:2.0
PRODID:-//Volt Europa//Events//EN
CALSCALE:GREGORIAN
METHOD:PUBLISH
BEGIN:VEVENT
UID:krachtstroom-1778176800@voltnederland.org
DTSTAMP:20260423T211227Z
DTSTART;TZID=Europe/Amsterdam:20260507T200000
DTEND;TZID=Europe/Amsterdam:20260507T230000
SUMMARY:Maandelijkse Arnhemse Borrel
DESCRIPTION:Opladen\, verbinden\, inspireren 🔋 Lijkt het je leuk om ande
 re Volters in Arnhem te ontmoeten? Kom dan naar onze  maandelijkse borrel  
 voor een informele en gezellige avond. Iedere eerste donderdag van de maand
  in De Kurk\, Steenstraat 68: nieuwe ideeën\, nieuwe mensen\, nieuwe energ
 ie. Mis het niet. ⚡💜
LOCATION:ABC Libertas
URL:https://voltnederland.org/gelderland/agenda/krachtstroom
END:VEVENT
END:VCALENDAR
