BEGIN:VCALENDAR
VERSION:2.0
PRODID:-//Volt Europa//Events//EN
CALSCALE:GREGORIAN
METHOD:PUBLISH
BEGIN:VEVENT
UID:kom-kennis-maken-met-onze-kandidaat-lijsttrekkers-voor-de-gemeenteraads
 verkiezingen-van-2026-1749907800@voltnederland.org
DTSTAMP:20260423T114714Z
DTSTART;TZID=Europe/Amsterdam:20250614T153000
DTEND;TZID=Europe/Amsterdam:20250614T183000
SUMMARY:Kom kennis maken met onze kandidaat-lijsttrekkers voor de gemeenter
 aadsverkiezingen van 2026!
DESCRIPTION:Tijdens onze tweede bijeenkomst naar aanloop van de gemeenteraa
 dsverkiezingen zullen we onze beleidsspeerpunten presenteren en zullen de k
 andidaat-lijsttrekkers zichzelf voorstellen. Daarna is er de mogelijkheid o
 m in informele sfeer dieper op de inhoud in te gaan en na te praten over de
  koers voor de komende periode.  Start: 16.00 uur (inloop vanaf 15.30 uur) 
 tot 18.30 uur. Locatie:  't Huys\, Korenmarkt 13\, Arnhem Gratis toegang. I
 edereen is welkom\, ook niet-leden.  Wil je meer weten over Volt 
LOCATION:'t Huys\, Korenmarkt 13\, Arnhem
URL:https://voltnederland.org/agenda/kom-kennis-maken-met-onze-kandidaat-li
 jsttrekkers-voor-de-gemeenteraadsverkiezingen-van-2026
END:VEVENT
END:VCALENDAR
