BEGIN:VCALENDAR
VERSION:2.0
PRODID:-//Volt Europa//Events//EN
CALSCALE:GREGORIAN
METHOD:PUBLISH
BEGIN:VEVENT
UID:kennismaking-kandidaten-gemeenteraad-1765467000@voltnederland.org
DTSTAMP:20260424T031342Z
DTSTART;TZID=Europe/Amsterdam:20251211T163000
DTEND;TZID=Europe/Amsterdam:20251211T183000
SUMMARY:Kennismakingsborrel kandidaten Arnhem
DESCRIPTION:Op 11 December hebben wij onze laatste borrel van 2025. DIt is 
 gelijk ook een speciale borrel\, want je kan kennismaken met de kandidaten 
 voor de gemeenteraadsverkiezingen van 2026. Wil jij weten wie onze kandidat
 en zijn en waar zij zich voor in willen zetten in Arnhem? Kom langs voor in
 spirerende gesprekken met de kandidaten en ander Volters! ⚡💜 Eerste dr
 ankje is voor onze rekening!  PS: er kan in de buurt gegeten worden na de b
 orrel voor wie dat wil
LOCATION:Boekencafé Libertas\, Klarendalseweg 477-1
URL:https://voltnederland.org/gelderland/agenda/kennismaking-kandidaten-gem
 eenteraad
END:VEVENT
END:VCALENDAR
