BEGIN:VCALENDAR
VERSION:2.0
PRODID:-//Volt Europa//Events//EN
CALSCALE:GREGORIAN
METHOD:PUBLISH
BEGIN:VEVENT
UID:kandidaten-borrel-1765479600@voltnederland.org
DTSTAMP:20260424T031051Z
DTSTART;TZID=Europe/Amsterdam:20251211T200000
DTEND;TZID=Europe/Amsterdam:20251211T220000
SUMMARY:Kandidaten borrel Nijmegen
DESCRIPTION:Op donderdag 11 december kun je kandidaten van Volt voor de gem
 eenteraad in Nijmegen leren kennen. De kandidaten stellen zich voor aan de 
 leden van Volt Nijmegen\, omdat jullie tijdens het congres van Volt Gelderl
 and op hen kunnen stemmen. Wij spreken om 20:00u af in het café JoJo's in 
 het centrum van Nijmegen. Dat is hier:  Van Welderenstraat 87\, 6511 ME Nij
 megen
LOCATION:JoJo's (Van Welderenstraat 87\, 6511 ME Nijmegen)
URL:https://voltnederland.org/gelderland/agenda/kandidaten-borrel
END:VEVENT
END:VCALENDAR
