BEGIN:VCALENDAR
VERSION:2.0
PRODID:-//Volt Europa//Events//EN
CALSCALE:GREGORIAN
METHOD:PUBLISH
BEGIN:VEVENT
UID:intromarkt-radboud-universiteit-1724065200@voltnederland.org
DTSTAMP:20260424T122556Z
DTSTART;TZID=Europe/Amsterdam:20240819T130000
DTEND;TZID=Europe/Amsterdam:20240819T170000
SUMMARY:Intromarkt Radboud Universiteit
DESCRIPTION:Elk jaar houdt de Radboud Universiteit een Intromarkt voor nieu
 we studenten. Wij staan er als Volt voor de derde jaar op een rij weer bij.
  Wij informeren studenten over Volt\, en over waarom zij lid moeten worden.
  Het is elk jaar gezellig\; help je ons ook op de dag zelf met praten met a
 lle toekomstige Volt-leden? Of loop je even langs bij ons kraampje om hoi t
 e zeggen aan de enthousiaste Volters die er staan?
LOCATION:Berchmanianum\, achter het Academiegebouw (Houtlaan 4\, Nijmegen)
URL:https://voltnederland.org/gelderland/agenda/intromarkt-radboud-universi
 teit
END:VEVENT
END:VCALENDAR
