BEGIN:VCALENDAR
VERSION:2.0
PRODID:-//Volt Europa//Events//EN
CALSCALE:GREGORIAN
METHOD:PUBLISH
BEGIN:VEVENT
UID:in-gesprek-over-menswaardige-vluchtelingenopvang-en-meedoen-vanaf-dag-1
 -1734721200@voltnederland.org
DTSTAMP:20260423T114714Z
DTSTART;TZID=Europe/Amsterdam:20241220T200000
DTEND;TZID=Europe/Amsterdam:20241220T220000
SUMMARY:In gesprek over menswaardige vluchtelingenopvang en meedoen vanaf d
 ag 1
DESCRIPTION:Dagelijks is er aandacht in de politiek en in het nieuws voor a
 siel en migratie. Vaak gaat het over cijfers en maatregelen\, maar het gaat
  hier over mensen. Mensen zoals jij en ik\, die veelal op de vlucht zijn vo
 or oorlog\, honger en vervolging om wie ze zijn\, wat ze vinden of wat ze g
 eloven. Wie zijn deze mensen en waarom bouwen wij in Culemborg een tijdelij
 ke opvanglocatie voor 176 vluchtelingen? Hoe kunnen zij hier blijven meedoe
 n? Over deze vragen en vele anderen willen wij graag met elkaar in
LOCATION:Buurthuis Bolderburen (Prijsseweg 1\, 4105 LE Culemborg)
URL:https://voltnederland.org/agenda/in-gesprek-over-menswaardige-vluchteli
 ngenopvang-en-meedoen-vanaf-dag-1
END:VEVENT
END:VCALENDAR
