BEGIN:VCALENDAR
VERSION:2.0
PRODID:-//Volt Europa//Events//EN
CALSCALE:GREGORIAN
METHOD:PUBLISH
BEGIN:VEVENT
UID:grensmarkt-dinxperlo-1715248800@voltnederland.org
DTSTAMP:20260423T102226Z
DTSTART;TZID=Europe/Amsterdam:20240509T120000
DTEND;TZID=Europe/Amsterdam:20240509T140000
SUMMARY:Grensmarkt Dinxperlo
DESCRIPTION:Op 9 mei\, Hemelvaartsdag en tevens de Dag van Europa\, willen 
 we met zo veel mogelijk leden aanwezig zijn op de grensmarkt in Dinxperlo\,
  van 12.00 tot 14.00 uur. Laat weten of je erbij bent. Later op de avond ki
 jken we natuurlijk naar de halve finale van het Eurovisie Songfestival\, me
 t daarin het Europagezinde ‘Europapa’.
LOCATION:Dinxperlo
URL:https://voltnederland.org/gelderland/agenda/grensmarkt-dinxperlo
END:VEVENT
END:VCALENDAR
