BEGIN:VCALENDAR
VERSION:2.0
PRODID:-//Volt Europa//Events//EN
CALSCALE:GREGORIAN
METHOD:PUBLISH
BEGIN:VEVENT
UID:gast-van-de-raad-gemeente-nijmegen-1736954100@voltnederland.org
DTSTAMP:20260423T143722Z
DTSTART;TZID=Europe/Amsterdam:20250115T161500
DTEND;TZID=Europe/Amsterdam:20250115T200000
SUMMARY:Gast van de Raad gemeente Nijmegen
DESCRIPTION:Op woensdag 15 januari gaan wij als Volt Nijmegen op bezoek bij
  de gemeenteraad van Nijmegen (Korte Nieuwstraat 6) onder het programma Gas
 t van de Raad. Wij ontmoeten elkaar voor het gemeentehuis om 16:15. Wij ont
 moeten een raadslid van 16:30-17:30\, waarna wij iets eten in het gemeenteh
 uis. Daarna bezoeken wij de politieke avond. Wij hebben kort geleden een sc
 haduwfractie opgericht (zie de nieuwsbrief van Volt Arnhem-Nijmegen!)\, en 
 ons bezoek maakt deel uit van onze voorbereidingen op het deelne
LOCATION:Korte Nieuwstraat 6
URL:https://voltnederland.org/gelderland/agenda/gast-van-de-raad-gemeente-n
 ijmegen
END:VEVENT
END:VCALENDAR
