BEGIN:VCALENDAR
VERSION:2.0
PRODID:-//Volt Europa//Events//EN
CALSCALE:GREGORIAN
METHOD:PUBLISH
BEGIN:VEVENT
UID:flyeractie-zutphen-1760774400@voltnederland.org
DTSTAMP:20260423T102218Z
DTSTART;TZID=Europe/Amsterdam:20251018T100000
DTEND;TZID=Europe/Amsterdam:20251018T120000
SUMMARY:Flyeractie in Zutphen
DESCRIPTION:Kom in gesprek met Volt tijdens onze flyeractie in Zutphen. We 
 delen onze visie op de toekomst van Nederland en horen graag jouw ideeën. 
 📍 Verzamelen op parkeerplaats Polsbroek. 📩 Voor aanmelden of vragen m
 ail je naar  achterhoek@voltnederland.org
LOCATION:Polsbroek\, 7201 BZ   Zutphen
URL:https://voltnederland.org/gelderland/agenda/flyeractie-zutphen
END:VEVENT
END:VCALENDAR
