BEGIN:VCALENDAR
VERSION:2.0
PRODID:-//Volt Europa//Events//EN
CALSCALE:GREGORIAN
METHOD:PUBLISH
BEGIN:VEVENT
UID:flyeractie-lochem-1758960000@voltnederland.org
DTSTAMP:20260423T102218Z
DTSTART;TZID=Europe/Amsterdam:20250927T100000
DTEND;TZID=Europe/Amsterdam:20250927T120000
SUMMARY:Flyeractie Volt in Lochem – doe mee!
DESCRIPTION:Samen maken we Nederland toekomstbestendig. Help mee met flyere
 n en ga in gesprek over de toekomst van Europa! 📍  Startlocatie:  Graafs
 chapterrein — de parkeerplaats tussen AH en Jumbo  🕒  Voorafgaand aan 
 de  Eurobabbel : kom praten\, luisteren en meedenken 📬  Vragen of aanmel
 den?  Mail naar:  achterhoek@voltnederland.org
LOCATION:Graafschapterrein\, 7241 DH Lochem
URL:https://voltnederland.org/gelderland/agenda/flyeractie-lochem
END:VEVENT
END:VCALENDAR
