BEGIN:VCALENDAR
VERSION:2.0
PRODID:-//Volt Europa//Events//EN
CALSCALE:GREGORIAN
METHOD:PUBLISH
BEGIN:VEVENT
UID:flyeractie-in-arnhem-1-1760859000@voltnederland.org
DTSTAMP:20260423T114048Z
DTSTART;TZID=Europe/Amsterdam:20251019T093000
DTEND;TZID=Europe/Amsterdam:20251019T160000
SUMMARY:Flyeractie in Arnhem
DESCRIPTION:De komende dagen zullen we de straat op gaan om te flyeren. Op 
 verschillende locaties gaan we met mensen het gesprek aan en proberen we ze
  te overtuigen met positieve energie. Wil je er bij zijn? Geef je dan op vi
 a  dit formulier ! Hier kun je je ook opgeven voor eventuele andere dagen.
LOCATION:Arnhem
URL:https://voltnederland.org/gelderland/agenda/flyeractie-in-arnhem-1
END:VEVENT
END:VCALENDAR
