BEGIN:VCALENDAR
VERSION:2.0
PRODID:-//Volt Europa//Events//EN
CALSCALE:GREGORIAN
METHOD:PUBLISH
BEGIN:VEVENT
UID:flyeractie-doetinchem-1761379200@voltnederland.org
DTSTAMP:20260423T142817Z
DTSTART;TZID=Europe/Amsterdam:20251025T100000
DTEND;TZID=Europe/Amsterdam:20251025T120000
SUMMARY:Kom langs bij onze flyeractie in Doetinchem!
DESCRIPTION:We gaan graag met je in gesprek over Volt’s ideeën voor de t
 oekomst van Nederland. 📍 Verzamelen op het Simonsplein. 📩 Vragen of a
 anmelden? Mail naar:  achterhoek@voltnederland.org
LOCATION:Simonsplein\, 7001 BM   Doetinchem
URL:https://voltnederland.org/gelderland/agenda/flyeractie-doetinchem
END:VEVENT
END:VCALENDAR
