BEGIN:VCALENDAR
VERSION:2.0
PRODID:-//Volt Europa//Events//EN
CALSCALE:GREGORIAN
METHOD:PUBLISH
BEGIN:VEVENT
UID:fietstocht-volt-heuvelrug-1717228800@voltnederland.org
DTSTAMP:20260423T114135Z
DTSTART;TZID=Europe/Amsterdam:20240601T100000
DTEND;TZID=Europe/Amsterdam:20240601T140000
SUMMARY:Fiets(tocht) voor Volt  Heuvelrug
DESCRIPTION:In deze fietstocht gaan we met Volt-vlaggen aan onze fietsen en
  zoveel mogelijk paarse kleding aan een tocht maken vanaf NS station Driebe
 rgen-Zeist naar Amerongen. De afstand is 16\,5 kilometer\, ofwel ongeveer 1
  uur fietsen.  Tussendoor maken we een aantal korte pauzes voor een snack e
 n een drankje en om met het winkelend publiek in gesprek te gaan.   Minimal
 e deelname: 10 fietsers  Startpunt: station Driebergen-Zeist om 10:00 uur  
 Eindpunt: De Proloog in Amerongen omstreeks 14:00 uur    Aanmeld
LOCATION:vanaf NS station Driebergen-Zeist naar Amerongen
URL:https://voltnederland.org/gelderland/agenda/fietstocht-volt-heuvelrug
END:VEVENT
END:VCALENDAR
