BEGIN:VCALENDAR
VERSION:2.0
PRODID:-//Volt Europa//Events//EN
CALSCALE:GREGORIAN
METHOD:PUBLISH
BEGIN:VEVENT
UID:fietstocht-van-naar-kleve-1717228800@voltnederland.org
DTSTAMP:20260423T114225Z
DTSTART;TZID=Europe/Amsterdam:20240601T100000
DTEND;TZID=Europe/Amsterdam:20240601T160000
SUMMARY:Fietstocht van / naar Kleve
DESCRIPTION:Wij fietsen van het station in Nijmegen naar Kleve\, en stoppen
  wij onderweg om te flyeren en leuke kleine activiteiten te doen. In Kleve 
 staat een stand van Volt Kleve\, waar wij een 'plakaat slang' doen\, en daa
 rna fietsen wij weer terug naar het centrum van Nijmegen. Wij vertrekken va
 naf station Nijmegen om 10:00\, en komen waarschijnlijk terug rond 16:00. W
 ij hopen natuurlijk op mooi weer\, maar met Volt vlaggen en paarse kledij v
 allen wij in elk geval positief op!
LOCATION:station Nijmegen
URL:https://voltnederland.org/gelderland/agenda/fietstocht-van-naar-kleve
END:VEVENT
END:VCALENDAR
