BEGIN:VCALENDAR
VERSION:2.0
PRODID:-//Volt Europa//Events//EN
CALSCALE:GREGORIAN
METHOD:PUBLISH
BEGIN:VEVENT
UID:eindhoven-pride-rainbow-revolution-1749898800@voltnederland.org
DTSTAMP:20260423T113923Z
DTSTART;TZID=Europe/Amsterdam:20250614T130000
DTEND;TZID=Europe/Amsterdam:20250614T170000
SUMMARY:Eindhoven Pride - Rainbow Revolution!
DESCRIPTION:Reserveer in je agenda: ook in 2025 is Volt Eindhoven weer van 
 de partij bij de Eindhoven Pride. Het thema dit jaar is: Rainbow Revolution
 ! En Volt loopt dit jaar weer mee met een eigen groep in de Parade. Impress
 ie van de 2024 editie op Instagram: https://www.instagram.com/reel/C8J-Vh4o
 ri_/?utm_source=ig_web_copy_link&igsh=MzRlODBiNWFlZA== Inschrijven graag vi
 a  dit formulier . ----- Save the date: Volt Eindhoven will be back at Eind
 hoven Pride in 2025. This year's theme is: Rainbow Revolution!
LOCATION:PC Hooftlaan\, ten zuiden van Stadhuis
URL:https://voltnederland.org/brabant/agenda/eindhoven-pride-rainbow-revolu
 tion
END:VEVENT
END:VCALENDAR
