BEGIN:VCALENDAR
VERSION:2.0
PRODID:-//Volt Europa//Events//EN
CALSCALE:GREGORIAN
METHOD:PUBLISH
BEGIN:VEVENT
UID:een-dag-in-het-hart-van-de-europese-democratie-1764658800@voltnederland
 .org
DTSTAMP:20260423T175426Z
DTSTART;TZID=Europe/Amsterdam:20251202T080000
DTEND;TZID=Europe/Amsterdam:20251202T220000
SUMMARY:Een dag in het hart van de Europese democratie!
DESCRIPTION:Wil jij zien wat Europa betekent voor ons lokale werk? Ga mee n
 aar het Europees Parlement in Brussel! We gaan in gesprek met onze Europarl
 ementariërs\, krijgen een exclusieve rondleiding én praten met de Lobbyis
 ten voor Overijssel en Twente. Onderweg wordt je kennis getest door Erik Ke
 mp met een leuke pubquiz 🧠 📍 Reiskosten worden grotendeels vergoed\; 
 eigen bijdrage ± €15. 🕓 We vertrekken vroeg en komen laat terug – m
 aar het wordt een dag vol nieuwe inzichten en gezelligheid! 👉 Meld je sn
 el aan\, 
LOCATION:Brussel
URL:https://voltnederland.org/gelderland/agenda/een-dag-in-het-hart-van-de-
 europese-democratie
END:VEVENT
END:VCALENDAR
