BEGIN:VCALENDAR
VERSION:2.0
PRODID:-//Volt Europa//Events//EN
CALSCALE:GREGORIAN
METHOD:PUBLISH
BEGIN:VEVENT
UID:dusseldorf-d-btw2025-campagnedag-2-1740214800@voltnederland.org
DTSTAMP:20260423T114106Z
DTSTART;TZID=Europe/Amsterdam:20250222T100000
DTEND;TZID=Europe/Amsterdam:20250222T160000
SUMMARY:Düsseldorf (D) - BTW2025 Campagnedag 2
DESCRIPTION:"Op 23 februari 2025 is het BundesTagsWahl (BTW) in Duitsland. 
 En Volt maakt nu serieus kans om in het Duitse federale parlement te komen.
  Daarom wordt er ieder weekend in februari in vele steden en dorpen campagn
 e gevoerd. En natuurlijk komen er Volt leden uit andere Europese landen hel
 pen! Sluit ook aan\, en laat zien dat we een echte Europese partij zijn. En
  je hoeft zelfs geen (perfect) Duits te spreken! Voor zaterdag 8 februari i
 s er een grote campagnedag in Düsseldorf voorzien. Volt zal met
LOCATION:Düsseldorf\, Schadowstrasse
URL:https://voltnederland.org/agenda/dusseldorf-d-btw2025-campagnedag-2
END:VEVENT
END:VCALENDAR
