BEGIN:VCALENDAR
VERSION:2.0
PRODID:-//Volt Europa//Events//EN
CALSCALE:GREGORIAN
METHOD:PUBLISH
BEGIN:VEVENT
UID:democratie-joep-van-lit-1772823600@voltnederland.org
DTSTAMP:20260423T174047Z
DTSTART;TZID=Europe/Amsterdam:20260306T200000
DTEND;TZID=Europe/Amsterdam:20260306T220000
SUMMARY:Hoe en door wie kan de democratie verdedigd worden?
DESCRIPTION:Dr. Joep van Lit (Radboud Universiteit Nijmegen) geeft een inte
 ractieve lezing over de vraag “Hoe verdedigen we de democratie” in Boek
 handel Jansen & De Feijter op vrijdagavond 6 maart. De druk op democratieë
 n wereldwijd neemt toe. Autocratische leiders maken handig gebruik van demo
 cratische structuren om deze van binnenuit uit te hollen. Hoe kunnen modern
 e democratieën zich hiertegen verdedigen? In zijn lezing gaat Van Lit voor
 al in op een minder belicht maar cruciaal aspect: de verdedigers van
LOCATION:Boekhandel Jansen & de Feijter\,  Emmastraat 6\, Velp
URL:https://voltnederland.org/gelderland/agenda/democratie-joep-van-lit
END:VEVENT
END:VCALENDAR
