BEGIN:VCALENDAR
VERSION:2.0
PRODID:-//Volt Europa//Events//EN
CALSCALE:GREGORIAN
METHOD:PUBLISH
BEGIN:VEVENT
UID:defensie-in-de-achterhoek-1740596400@voltnederland.org
DTSTAMP:20260423T114225Z
DTSTART;TZID=Europe/Amsterdam:20250226T200000
DTEND;TZID=Europe/Amsterdam:20250226T223000
SUMMARY:Defensie in de Achterhoek – Gevolgen en Kansen
DESCRIPTION:Defensie groeit\, en dat heeft gevolgen voor de Achterhoek. Wat
  betekent dit voor onze regio? Dit is jouw kans om mee te denken en in gesp
 rek te gaan met Statenleden van Volt over de kansen én uitdagingen die de 
 nota Ruimte voor Defensie met zich meebrengt! Zie ook artikel in  Achterhoe
 k Nieuws . Tijdens deze meet-up geven we uitleg over de mogelijke gevolgen 
 van de nota voor onze regio. Maar we willen vooral van JOU horen: wat zijn 
 de zorgen van de Achterhoeks inwoners\, en welke kansen zien we v
LOCATION:Hier Achterhoek\, Palmberg 18\, Zelhem
URL:https://voltnederland.org/gelderland/agenda/defensie-in-de-achterhoek
END:VEVENT
END:VCALENDAR
