BEGIN:VCALENDAR
VERSION:2.0
PRODID:-//Volt Europa//Events//EN
CALSCALE:GREGORIAN
METHOD:PUBLISH
BEGIN:VEVENT
UID:de-volt-campagne-komt-naar-nijmegen-1761472800@voltnederland.org
DTSTAMP:20260423T114310Z
DTSTART;TZID=Europe/Amsterdam:20251026T110000
DTEND;TZID=Europe/Amsterdam:20251026T160000
SUMMARY:De Volt campagne komt naar Nijmegen
DESCRIPTION:Op zondag 11 oktober komen er Volters uit heel Nederland naar N
 ijmegen om hier te flyeren. Wij verzamelen om 10:30 bij de Bagels en Beans 
 in de Lange Hezelstraat\, vlakbij het Kronenburgerpark. Kom jij ook ons hel
 pen om in Nijmegen een fantastisch resultaat neer te zetten voor de Tweede 
 Kamerverkiezingen?
LOCATION:Lange Hezelstraat 108\, 6511 CN Nijmegen
URL:https://voltnederland.org/gelderland/agenda/de-volt-campagne-komt-naar-
 nijmegen
END:VEVENT
END:VCALENDAR
