BEGIN:VCALENDAR
VERSION:2.0
PRODID:-//Volt Europa//Events//EN
CALSCALE:GREGORIAN
METHOD:PUBLISH
BEGIN:VEVENT
UID:campagnevoeren-in-nijmegen-voor-de-tweede-kamerverkiezingen-1760171400@
 voltnederland.org
DTSTAMP:20260423T114714Z
DTSTART;TZID=Europe/Amsterdam:20251011T103000
DTEND;TZID=Europe/Amsterdam:20251029T100000
SUMMARY:Campagnevoeren in Nijmegen voor de Tweede Kamerverkiezingen
DESCRIPTION:Wij gaan in Nijmegen heel veel campagnevoeren. Er staan drie bi
 jzondere data al vast voor onze campagne: 11\, 12 en 26 oktober. Op de even
 ementen pagina van Volt Gelderland kun je meer informatie vinden over wat w
 ij deze drie dagen doen. Maar verder voeren wij natuurlijk nog vaker campag
 ne. Op 18\, 19\, 21\, 22\, 23\, 24\, 25\, 27\, 28 en 29 oktober staan wij o
 ok te flyeren. Wil je meer weten over hoe\, waar en wanneer wij campagnevoe
 ren?  Stuur een mailtje  aan ons\, en wij geven je de precieze details!
LOCATION:Nijmegen
URL:https://voltnederland.org/gelderland/agenda/campagnevoeren-in-nijmegen-
 voor-de-tweede-kamerverkiezingen
END:VEVENT
END:VCALENDAR
