BEGIN:VCALENDAR
VERSION:2.0
PRODID:-//Volt Europa//Events//EN
CALSCALE:GREGORIAN
METHOD:PUBLISH
BEGIN:VEVENT
UID:campagnevoeren-in-kleve-feb15-1739610900@voltnederland.org
DTSTAMP:20260423T023455Z
DTSTART;TZID=Europe/Amsterdam:20250215T101500
DTEND;TZID=Europe/Amsterdam:20250215T143000
SUMMARY:Campagnevoeren in Kleve
DESCRIPTION:De verkiezingen voor het Duits parlement\, de Bundestag\, komen
  snel dichterbij (23 februari). Wij gaan onze mede-Volters in Kleve in Duit
 sland daarom twee keer ondersteunen. Dat doen wij op 25 januari\, en op 15 
 februari.  Wij ontmoeten elkaar om 10:15 voor het centraal station in Nijme
 gen. Wij nemen daarna een bus naar Kleve\, waar wij om 11:15 een paar uur f
 lyers uitdelen aan stemmers in Duitsland. Na afloop gaan wij weer met de bu
 s terug naar Nijmegen. Heb je zin om Volt in Duitsland te helpen? 
LOCATION:Centraal Station Nijmegen
URL:https://voltnederland.org/gelderland/agenda/campagnevoeren-in-kleve-feb
 15
END:VEVENT
END:VCALENDAR
