BEGIN:VCALENDAR
VERSION:2.0
PRODID:-//Volt Europa//Events//EN
CALSCALE:GREGORIAN
METHOD:PUBLISH
BEGIN:VEVENT
UID:campagnevoeren-in-kleve-09-2025-1757142900@voltnederland.org
DTSTAMP:20260423T114441Z
DTSTART;TZID=Europe/Amsterdam:20250906T091500
DTEND;TZID=Europe/Amsterdam:20250906T133000
SUMMARY:Campagnevoeren in Kleve
DESCRIPTION:De verkiezingen voor de stadsraad in Kleve komen snel dichterbi
 j (14 september). Wij gaan onze mede-Volters in Kleve in Duitsland daarom t
 wee keer ondersteunen. Dat doen wij op 23 augustus en op 6 september.  Wij 
 ontmoeten elkaar om 9:15 voor het centraal station in Nijmegen. Wij nemen d
 aarna een bus naar Kleve\, waar wij om 10:15 tot 13:30 flyers uitdelen aan 
 stemmers in Duitsland. Na afloop gaan wij weer met de bus terug naar Nijmeg
 en. Heb je zin om Volt in Duitsland te helpen? Stuur dan een e-
LOCATION:Centraal Station Nijmegen
URL:https://voltnederland.org/gelderland/agenda/campagnevoeren-in-kleve-09-
 2025
END:VEVENT
END:VCALENDAR
