BEGIN:VCALENDAR
VERSION:2.0
PRODID:-//Volt Europa//Events//EN
CALSCALE:GREGORIAN
METHOD:PUBLISH
BEGIN:VEVENT
UID:campagnediner-arnhem-1770485400@voltnederland.org
DTSTAMP:20260424T030517Z
DTSTART;TZID=Europe/Amsterdam:20260207T183000
DTEND;TZID=Europe/Amsterdam:20260207T230000
SUMMARY:Campagnediner Arnhem
DESCRIPTION:Laat jezelf verwennen door het campagneteam en haal samen geld 
 op voor de campagne. Met jouw bijdrage zorgen we voor een succesvolle campa
 gne! Datum: zaterdag 7 februari Tijd: inloop 18.30 uur\, start 19.00 uur  I
 nformatie over de locatie\, aanmelden en kaartjes volgt via onze  Whatsapp 
  en  Signal  groepen. Let op: er is een beperkt aantal plaatsen beschikbaar
 .
LOCATION:tba
URL:https://voltnederland.org/gelderland/agenda/campagnediner-arnhem
END:VEVENT
END:VCALENDAR
